BEGIN:VCALENDAR
VERSION:2.0
PRODID:-//hacksw/handcal//NONSGML v1.0//EN
CALSCALE:GREGORIAN
BEGIN:VEVENT
LOCATION:
DESCRIPTION:On March 11\, 2026\, the scientific center “Smart technologies for sustainable development of the urban environment in the context of global changes” of ATI RUDN University will organize an international scientific seminar “Microbial community of soils of urban and technogenic ecosystems of the Far North: the example of the Murmansk region”. The event will be held in a mixed format on the Yandex Telemost platform. The working language is Russian.
DTSTART:20260311T100000Z
DTEND:20260311T185000Z
SUMMARY:International Scientific Seminar “Microbial community of soils of urban and technogenic ecosystems of the Far North: the example of the Murmansk region”
URL;VALUE=URI:/media/events/international-scientific-seminar-microbial-community-of-soils-of-urban-and-technogenic-ecosystems-of-the-far-north-the-example-of-the-murmansk-region/
DTSTAMP:20260424T014018Z
UID:69ea9fd27bc13
END:VEVENT
END:VCALENDAR