BEGIN:VCALENDAR
VERSION:2.0
PRODID:-//hacksw/handcal//NONSGML v1.0//EN
CALSCALE:GREGORIAN
BEGIN:VEVENT
LOCATION:
DESCRIPTION:Molecules store energy and\, as bonds are formed and broken\, every chemical process can either store or release energy as well.  This talk will discuss practical ways for incorporating this common knowledge into reaction design and in searching for new physical phenomena.
DTSTART:20260320T100000Z
DTEND:20260320T185000Z
SUMMARY:Energy and electronic effects in control of organic reactions From stereoelectronic frustration to electron upconversion
URL;VALUE=URI:/media/events/energy-and-electronic-effects-in-control-of-organic-reactions-from-stereoelectronic-frustration-to-electron-upconversion/
DTSTAMP:20260424T193108Z
UID:69eb9acce9b9d
END:VEVENT
END:VCALENDAR