BEGIN:VCALENDAR
VERSION:2.0
PRODID:-//hacksw/handcal//NONSGML v1.0//EN
CALSCALE:GREGORIAN
BEGIN:VEVENT
LOCATION:6\, Miklukho-Maklaya\, Moscow
DESCRIPTION:
DTSTART:20260301T171700Z
DTEND:20260916T180000Z
SUMMARY:Competition for the Prize of the Federal State Autonomous Educational Institution of Higher Education “Peoples’ Friendship University of Russia Named after Patrice Lumumba” for Scientific Achievements and Contribution in the Field of Chemistry
URL;VALUE=URI:/media/events/chemistry-award-2026/
DTSTAMP:20260425T152748Z
UID:69ecb3444ef65
END:VEVENT
END:VCALENDAR