BEGIN:VCALENDAR
VERSION:2.0
PRODID:-//hacksw/handcal//NONSGML v1.0//EN
CALSCALE:GREGORIAN
BEGIN:VEVENT
LOCATION:
DESCRIPTION:On April 8\, 2026\, the scientific center «Smart technologies for sustainable development of the urban environment in the context of global changes» of ATI RUDN University will organize an international scientific seminar «The Green Standard: Novel Approaches to the Design of Functional Urban Greening in New Construction Projects in Moscow». The event will be held in a mixed format on the Yandex Telemost platform. The working language is Russian.
DTSTART:20260408T100000Z
DTEND:20260408T185000Z
SUMMARY:International Scientific Seminar “The Green Standard: Novel Approaches to the Design of Functional Urban Greening in New Construction Projects in Moscow”
URL;VALUE=URI:/media/events/international-scientific-seminar-the-green-standard-novel-approaches-to-the-design-of-functional-urban-greening-in-new-construction-projects-in-moscow/
DTSTAMP:20260424T044635Z
UID:69eacb7bf31e8
END:VEVENT
END:VCALENDAR