BEGIN:VCALENDAR
VERSION:2.0
PRODID:-//hacksw/handcal//NONSGML v1.0//EN
CALSCALE:GREGORIAN
BEGIN:VEVENT
LOCATION:
DESCRIPTION:On May 13\, 2026\, the scientific center "Smart technologies for sustainable development of the urban environment in the context of global changes" of ATI RUDN University will organize an international scientific seminar "Taxonomic and functional diversity of urban park soils under varying degrees of disturbance". The event will be held in a mixed format on the Yandex Telemost platform. The working language is Russian.


DTSTART:20260513T100000Z
DTEND:20260513T185000Z
SUMMARY:International Scientific Seminar “Taxonomic and functional diversity of urban park soils under varying degrees of disturbance”
URL;VALUE=URI:/media/events/international-scientific-seminar-taxonomic-and-functional-diversity-of-urban-park-soils-under-varying-degrees-of-disturbance/
DTSTAMP:20260424T184712Z
UID:69eb9080a587f
END:VEVENT
END:VCALENDAR