BEGIN:VCALENDAR
VERSION:2.0
PRODID:-//hacksw/handcal//NONSGML v1.0//EN
CALSCALE:GREGORIAN
BEGIN:VEVENT
LOCATION:9\, Miklukho-Maklaya\, Moscow
DESCRIPTION:January 11\, the Institute of Foreign Languages\, Department of Social Pedagogy hosts a student scientific-practical conference “Innovations in Psychological and Pedagogical Education”\, which annually rounds up internship of undergraduate and graduate students majoring in Psychological and Pedagogical Education.
DTSTART:20190111T104000Z
DTEND:20190111T234000Z
SUMMARY:Student scientific-practical conference &quot\;Innovations in psychological and pedagogical education&quot\;
URL;VALUE=URI:/media/events/student-scientific-practical-conference-quotinnovations-in-psychological-and-pedagogical-educationquot/
DTSTAMP:20260423T165117Z
UID:69ea23d559d86
END:VEVENT
END:VCALENDAR