BEGIN:VCALENDAR
VERSION:2.0
PRODID:-//hacksw/handcal//NONSGML v1.0//EN
CALSCALE:GREGORIAN
BEGIN:VEVENT
LOCATION:6\, Miklukho-Maklaya\, Moscow Russia 
DESCRIPTION:In the framework of the International Christmas Educational Readings\, the Peoples’ Friendship University of Russia and the Moscow Theological Academy hold a conference “Spiritual and Moral Culture in Higher Education”. 
DTSTART:20190129T105300Z
DTEND:20190129T195300Z
SUMMARY:Conference &quot\;Spiritual and moral culture in higher education. Student youth: freedom and responsibility&quot\;
URL;VALUE=URI:/media/events/conference-quotspiritual-and-moral-culture-in-higher-education-student-youth-freedom-and-responsibilityquot/
DTSTAMP:20260424T004057Z
UID:69ea91e976035
END:VEVENT
END:VCALENDAR