BEGIN:VCALENDAR
VERSION:2.0
PRODID:-//hacksw/handcal//NONSGML v1.0//EN
CALSCALE:GREGORIAN
BEGIN:VEVENT
LOCATION:6\, Miklukho-Maklaya\, Moscow Russia
DESCRIPTION:
DTSTART:20190422T100000Z
DTEND:20190426T190000Z
SUMMARY:The Fifth International Scientific Conference “Advances in Synthesis and Complexing”
URL;VALUE=URI:/media/events/the-fifth-international-scientific-conference-advances-in-synthesis-and-complexing/
DTSTAMP:20260423T201046Z
UID:69ea5296a07b8
END:VEVENT
END:VCALENDAR